BEGIN:VCALENDAR
VERSION:2.0
PRODID:-//HIGHEST //NONSGML Events //EN
CALSCALE:GREGORIAN
X-WR-CALNAME:HIGHEST
BEGIN:VEVENT
CREATED:20260417T063000Z
UID:35605@highest-darmstadt.de
DTEND;VALUE=DATE:20260521T160000
DTSTART;VALUE=DATE:20260521T123000
DTSTAMP:20260420T135008Z
LOCATION:S1|01 606\, TU THINK\, 6. OG\, Karolinenplatz 5\, Darmstadt
SUMMARY:Meet the Angels – Sprechstunde der Business Angel RheinMain 21. Mai 2026
ORGANIZER:HIGHEST
URL;VALUE=URI:https://highest-darmstadt.de/de/event/investorensprechstunde-fuer-start-ups/
TRANSP:OPAQUE
BEGIN:VALARM
ACTION:DISPLAY
TRIGGER;VALUE=DATE-TIME:20260420T155008Z
DESCRIPTION:Reminder for Meet the Angels &#8211\; Sprechstunde der Business Angel RheinMain 21. Mai 2026
END:VALARM
END:VEVENT
BEGIN:VEVENT
CREATED:20260312T122930Z
UID:35111@highest-darmstadt.de
DTEND;VALUE=DATE:20260518T130000
DTSTART;VALUE=DATE:20260518T120000
DTSTAMP:20260420T135008Z
LOCATION:
SUMMARY:FAQ Ideenwettbewerb 18.05.2026
ORGANIZER:HIGHEST
URL;VALUE=URI:https://highest-darmstadt.de/de/event/faq-ideenwettbewerb-18-05-2026/
TRANSP:OPAQUE
BEGIN:VALARM
ACTION:DISPLAY
TRIGGER;VALUE=DATE-TIME:20260420T155008Z
DESCRIPTION:Reminder for FAQ Ideenwettbewerb 18.05.2026
END:VALARM
END:VEVENT
BEGIN:VEVENT
CREATED:20260312T122359Z
UID:35104@highest-darmstadt.de
DTEND;VALUE=DATE:20260429T130000
DTSTART;VALUE=DATE:20260429T120000
DTSTAMP:20260420T135008Z
LOCATION:
SUMMARY:FAQ Ideenwettbewerb 29.04.2026
ORGANIZER:HIGHEST
URL;VALUE=URI:https://highest-darmstadt.de/de/event/faq-ideenwettbewerb-29-04-2026/
TRANSP:OPAQUE
BEGIN:VALARM
ACTION:DISPLAY
TRIGGER;VALUE=DATE-TIME:20260420T155008Z
DESCRIPTION:Reminder for FAQ Ideenwettbewerb 29.04.2026
END:VALARM
END:VEVENT
BEGIN:VEVENT
CREATED:20260219T130206Z
UID:34718@highest-darmstadt.de
DTEND;VALUE=DATE:20261215T160000
DTSTART;VALUE=DATE:20261215T150000
DTSTAMP:20260420T135008Z
LOCATION:
SUMMARY:TU Idea Talks 15.12.2026
ORGANIZER:HIGHEST
URL;VALUE=URI:https://highest-darmstadt.de/de/event/tu-idea-talks-15-12-2026/
TRANSP:OPAQUE
BEGIN:VALARM
ACTION:DISPLAY
TRIGGER;VALUE=DATE-TIME:20260420T155008Z
DESCRIPTION:Reminder for TU Idea Talks 15.12.2026
END:VALARM
END:VEVENT
BEGIN:VEVENT
CREATED:20260219T130006Z
UID:34715@highest-darmstadt.de
DTEND;VALUE=DATE:20261124T160000
DTSTART;VALUE=DATE:20261124T150000
DTSTAMP:20260420T135008Z
LOCATION:
SUMMARY:TU Idea Talks 24.11.2026
ORGANIZER:HIGHEST
URL;VALUE=URI:https://highest-darmstadt.de/de/event/tu-idea-talks-24-11-2026/
TRANSP:OPAQUE
BEGIN:VALARM
ACTION:DISPLAY
TRIGGER;VALUE=DATE-TIME:20260420T155008Z
DESCRIPTION:Reminder for TU Idea Talks 24.11.2026
END:VALARM
END:VEVENT
BEGIN:VEVENT
CREATED:20260219T125759Z
UID:34712@highest-darmstadt.de
DTEND;VALUE=DATE:20261027T160000
DTSTART;VALUE=DATE:20261027T150000
DTSTAMP:20260420T135008Z
LOCATION:
SUMMARY:TU Idea Talks 27.10.2026
ORGANIZER:HIGHEST
URL;VALUE=URI:https://highest-darmstadt.de/de/event/tu-idea-talks-27-10-2026/
TRANSP:OPAQUE
BEGIN:VALARM
ACTION:DISPLAY
TRIGGER;VALUE=DATE-TIME:20260420T155008Z
DESCRIPTION:Reminder for TU Idea Talks 27.10.2026
END:VALARM
END:VEVENT
BEGIN:VEVENT
CREATED:20260219T125238Z
UID:34708@highest-darmstadt.de
DTEND;VALUE=DATE:20260922T170000
DTSTART;VALUE=DATE:20260922T160000
DTSTAMP:20260420T135008Z
LOCATION:
SUMMARY:TU Idea Talks 22.09.2026
ORGANIZER:HIGHEST
URL;VALUE=URI:https://highest-darmstadt.de/de/event/tu-idea-talks-22-09-2026/
TRANSP:OPAQUE
BEGIN:VALARM
ACTION:DISPLAY
TRIGGER;VALUE=DATE-TIME:20260420T155008Z
DESCRIPTION:Reminder for TU Idea Talks 22.09.2026
END:VALARM
END:VEVENT
BEGIN:VEVENT
CREATED:20260219T121153Z
UID:34695@highest-darmstadt.de
DTEND;VALUE=DATE:20260825T170000
DTSTART;VALUE=DATE:20260825T160000
DTSTAMP:20260420T135008Z
LOCATION:
SUMMARY:TU Idea Talks 25.08.2026
ORGANIZER:HIGHEST
URL;VALUE=URI:https://highest-darmstadt.de/de/event/tu-idea-talks-25-08-2026/
TRANSP:OPAQUE
BEGIN:VALARM
ACTION:DISPLAY
TRIGGER;VALUE=DATE-TIME:20260420T155008Z
DESCRIPTION:Reminder for TU Idea Talks 25.08.2026
END:VALARM
END:VEVENT
BEGIN:VEVENT
CREATED:20260219T114221Z
UID:34680@highest-darmstadt.de
DTEND;VALUE=DATE:20260728T170000
DTSTART;VALUE=DATE:20260728T160000
DTSTAMP:20260420T135008Z
LOCATION:
SUMMARY:TU Idea Talks 28.07.2026
ORGANIZER:HIGHEST
URL;VALUE=URI:https://highest-darmstadt.de/de/event/tu-idea-talks-28-07-2026/
TRANSP:OPAQUE
BEGIN:VALARM
ACTION:DISPLAY
TRIGGER;VALUE=DATE-TIME:20260420T155008Z
DESCRIPTION:Reminder for TU Idea Talks 28.07.2026
END:VALARM
END:VEVENT
BEGIN:VEVENT
CREATED:20260219T114016Z
UID:34677@highest-darmstadt.de
DTEND;VALUE=DATE:20260623T170000
DTSTART;VALUE=DATE:20260623T160000
DTSTAMP:20260420T135008Z
LOCATION:
SUMMARY:TU Idea Talks 23.06.2026
ORGANIZER:HIGHEST
URL;VALUE=URI:https://highest-darmstadt.de/de/event/tu-idea-talks-23-06-2026/
TRANSP:OPAQUE
BEGIN:VALARM
ACTION:DISPLAY
TRIGGER;VALUE=DATE-TIME:20260420T155008Z
DESCRIPTION:Reminder for TU Idea Talks 23.06.2026
END:VALARM
END:VEVENT
END:VCALENDAR
