BEGIN:VCALENDAR
VERSION:2.0
PRODID:-//HIGHEST //NONSGML Events //EN
CALSCALE:GREGORIAN
X-WR-CALNAME:HIGHEST
BEGIN:VEVENT
CREATED:20241212T094737Z
UID:27612@highest-darmstadt.de
DTEND;VALUE=DATE:20250402T193000
DTSTART;VALUE=DATE:20250402T180000
DTSTAMP:20260422T083450Z
LOCATION:
SUMMARY:foundersxchange april 2025
ORGANIZER:HIGHEST
URL;VALUE=URI:https://highest-darmstadt.de/en/event/foundersxchange-april-2025/
TRANSP:OPAQUE
BEGIN:VALARM
ACTION:DISPLAY
TRIGGER;VALUE=DATE-TIME:20260422T103450Z
DESCRIPTION:Reminder for foundersxchange april 2025
END:VALARM
END:VEVENT
END:VCALENDAR
